BEGIN:VCALENDAR
VERSION:2.0
PRODID:-//Taal West-Brabant - ECPv6.10.0//NONSGML v1.0//EN
CALSCALE:GREGORIAN
METHOD:PUBLISH
X-ORIGINAL-URL:https://taalwestbrabant.nl
X-WR-CALDESC:Evenementen voor Taal West-Brabant
REFRESH-INTERVAL;VALUE=DURATION:PT1H
X-Robots-Tag:noindex
X-PUBLISHED-TTL:PT1H
BEGIN:VTIMEZONE
TZID:UTC
BEGIN:STANDARD
TZOFFSETFROM:+0000
TZOFFSETTO:+0000
TZNAME:UTC
DTSTART:20220101T000000
END:STANDARD
END:VTIMEZONE
BEGIN:VEVENT
DTSTART;TZID=UTC:20220910T090000
DTEND;TZID=UTC:20220910T173000
DTSTAMP:20260424T123736
CREATED:20220824T085713Z
LAST-MODIFIED:20220829T074332Z
UID:1347-1662800400-1662831000@taalwestbrabant.nl
SUMMARY:Popmonument Kenny Anders
DESCRIPTION:Op de Grote Markt in Bergen op Zoom\nToegangsticket is verplicht\, klik hier
URL:https://taalwestbrabant.nl/activiteit/popmonument-kenny-anders/
LOCATION:Grote Markt Bergen op Zoom\, Grote Markt 32\, Bergen op Zoom
END:VEVENT
END:VCALENDAR