BEGIN:VCALENDAR
VERSION:2.0
PRODID:-//Taal West-Brabant - ECPv6.10.0//NONSGML v1.0//EN
CALSCALE:GREGORIAN
METHOD:PUBLISH
X-ORIGINAL-URL:https://taalwestbrabant.nl
X-WR-CALDESC:Evenementen voor Taal West-Brabant
REFRESH-INTERVAL;VALUE=DURATION:PT1H
X-Robots-Tag:noindex
X-PUBLISHED-TTL:PT1H
BEGIN:VTIMEZONE
TZID:UTC
BEGIN:STANDARD
TZOFFSETFROM:+0000
TZOFFSETTO:+0000
TZNAME:UTC
DTSTART:20220101T000000
END:STANDARD
END:VTIMEZONE
BEGIN:VEVENT
DTSTART;TZID=UTC:20220912T130000
DTEND;TZID=UTC:20220912T150000
DTSTAMP:20260424T123736
CREATED:20220824T090307Z
LAST-MODIFIED:20220824T090307Z
UID:1351-1662987600-1662994800@taalwestbrabant.nl
SUMMARY:Open Middag Oosterhout
DESCRIPTION:Inloopspreekuur in Digi-Taalhuis Oosterhout\naanmelden niet nodig
URL:https://taalwestbrabant.nl/activiteit/open-middag-oosterhout/
LOCATION:Digi-Taalhuis Oosterhout\, Torenstraat 8\, Oosterhout
END:VEVENT
BEGIN:VEVENT
DTSTART;TZID=UTC:20220912T133000
DTEND;TZID=UTC:20220912T150000
DTSTAMP:20260424T123736
CREATED:20220824T090050Z
LAST-MODIFIED:20220824T090050Z
UID:1349-1662989400-1662994800@taalwestbrabant.nl
SUMMARY:Taaloefengroep Zevenbergen
DESCRIPTION:In Digi-Taalhuis Moerdijk\nVooraf aanmelden
URL:https://taalwestbrabant.nl/activiteit/taaloefengroep-zevenbergen/
LOCATION:Digi-Taalhuis Moerdijk\, Kasteelweg 3\, Zevenbergen\, Noord-Brabant
END:VEVENT
BEGIN:VEVENT
DTSTART;TZID=UTC:20220912T133000
DTEND;TZID=UTC:20220912T150000
DTSTAMP:20260424T123736
CREATED:20220824T090815Z
LAST-MODIFIED:20220824T090815Z
UID:1355-1662989400-1662994800@taalwestbrabant.nl
SUMMARY:Taalcafé Rijsbergen
DESCRIPTION:In Digi-Taalhuis Zundert\nVooraf aanmelden niet nodig
URL:https://taalwestbrabant.nl/activiteit/taalcafe-rijsbergen/
LOCATION:Digi-Taalhuis Zundert\, Koutershof 6\, Rijsbergen
END:VEVENT
BEGIN:VEVENT
DTSTART;TZID=UTC:20220912T140000
DTEND;TZID=UTC:20220912T160000
DTSTAMP:20260424T123736
CREATED:20220824T091008Z
LAST-MODIFIED:20220824T091008Z
UID:1357-1662991200-1662998400@taalwestbrabant.nl
SUMMARY:Inloopspreekuur Rijsbergen
DESCRIPTION:In Digi-Taalhuis Zundert\nVooraf aanmelden niet nodig
URL:https://taalwestbrabant.nl/activiteit/inloopspreekuur-rijsbergen/
LOCATION:Digi-Taalhuis Zundert\, Koutershof 6\, Rijsbergen
END:VEVENT
BEGIN:VEVENT
DTSTART;TZID=UTC:20220912T140000
DTEND;TZID=UTC:20220912T170000
DTSTAMP:20260424T123736
CREATED:20220824T090636Z
LAST-MODIFIED:20220824T090636Z
UID:1353-1662991200-1663002000@taalwestbrabant.nl
SUMMARY:Opening Expositie Droom je Toekomst
DESCRIPTION:reizende voorstelling\, opening in Digi-Taalhuis Roosendaal\nvooraf aanmelden niet nodig
URL:https://taalwestbrabant.nl/activiteit/opening-expositie-droom-je-toekomst/
LOCATION:Digi-Taalhuis Roosendaal\, Markt 54A\, Roosendaal
END:VEVENT
BEGIN:VEVENT
DTSTART;TZID=UTC:20220912T153000
DTEND;TZID=UTC:20220912T173000
DTSTAMP:20260424T123736
CREATED:20220830T112825Z
LAST-MODIFIED:20220830T112825Z
UID:1371-1662996600-1663003800@taalwestbrabant.nl
SUMMARY:Opening Digi-Taalhuis Rucphen
DESCRIPTION:vooraf aanmelden nodig
URL:https://taalwestbrabant.nl/activiteit/opening-digi-taalhuis-rucphen-2/
LOCATION:Digi-Taalhuis Rucphen\, Binnentuin 3\, Rucphen
END:VEVENT
END:VCALENDAR