BEGIN:VCALENDAR
VERSION:2.0
PRODID:-//Taal West-Brabant - ECPv6.10.0//NONSGML v1.0//EN
CALSCALE:GREGORIAN
METHOD:PUBLISH
X-WR-CALNAME:Taal West-Brabant
X-ORIGINAL-URL:https://taalwestbrabant.nl
X-WR-CALDESC:Evenementen voor Taal West-Brabant
REFRESH-INTERVAL;VALUE=DURATION:PT1H
X-Robots-Tag:noindex
X-PUBLISHED-TTL:PT1H
BEGIN:VTIMEZONE
TZID:UTC
BEGIN:STANDARD
TZOFFSETFROM:+0000
TZOFFSETTO:+0000
TZNAME:UTC
DTSTART:20220101T000000
END:STANDARD
END:VTIMEZONE
BEGIN:VEVENT
DTSTART;TZID=UTC:20220914T110000
DTEND;TZID=UTC:20220914T120000
DTSTAMP:20260424T123637
CREATED:20220901T074820Z
LAST-MODIFIED:20220901T074908Z
UID:1374-1663153200-1663156800@taalwestbrabant.nl
SUMMARY:Workshop Hoe koop ik een theaterkaartje bij De Nobelaer? Etten-Leur
DESCRIPTION:In De Nobelaer. \nAanmelden via deze link
URL:https://taalwestbrabant.nl/activiteit/workshop-hoe-koop-ik-een-theaterkaartje-bij-de-nobelaer-etten-leur/
LOCATION:De Nobelaer\, Parklaan 2\, Etten-Leur\, Nederland
END:VEVENT
END:VCALENDAR