BEGIN:VCALENDAR
VERSION:2.0
PRODID:-//Taal West-Brabant - ECPv6.10.0//NONSGML v1.0//EN
CALSCALE:GREGORIAN
METHOD:PUBLISH
X-WR-CALNAME:Taal West-Brabant
X-ORIGINAL-URL:https://taalwestbrabant.nl
X-WR-CALDESC:Evenementen voor Taal West-Brabant
REFRESH-INTERVAL;VALUE=DURATION:PT1H
X-Robots-Tag:noindex
X-PUBLISHED-TTL:PT1H
BEGIN:VTIMEZONE
TZID:UTC
BEGIN:STANDARD
TZOFFSETFROM:+0000
TZOFFSETTO:+0000
TZNAME:UTC
DTSTART:20220101T000000
END:STANDARD
END:VTIMEZONE
BEGIN:VEVENT
DTSTART;TZID=UTC:20221012T140000
DTEND;TZID=UTC:20221012T153000
DTSTAMP:20260424T104734
CREATED:20221010T140301Z
LAST-MODIFIED:20221010T140939Z
UID:1399-1665583200-1665588600@taalwestbrabant.nl
SUMMARY:Gratis Basiscursus Kunnen wij op jou rekenen? - Roosendaal
DESCRIPTION:Iedereen komt dagelijks situaties tegen waarbij getallen en rekenvaardigheden een rol spelen. Voor een aantal mensen is rekenen een automatisme\, maar voor heel veel mensen is rekenen helemaal niet zo vanzelfsprekend. Daarom bieden wij deze training aan! \nIn de training oefen je met: \nOptellen\, aftrekken\, vermenigvuldigen en delen.\nRekenen met tijd (klok\, tabellen\, lezen en agenda).\nRekenen met geld (wisselgeld\, prijzen en kortingen).\nBreuken en verhoudingen (hoeveelheden en verdelen).\nMeten en wegen (meters\, liters\, grammen en inhoud). \nWil jij beter leren rekenen? \nAanmelden kan via het spreekuur op donderdagmiddag van 14.00 tot 16.30 uur of via digitaalhuis@bibliotheekwb.nl onder vermelding van Rekenen Roosendaal. \nStart: woensdag 12 oktober 2022 \nDuur cursus: 20 weken \nLesdag: woensdag \nTijd: van 14.00 tot 15.30 uur \nLocatie: de Bibliotheek\, Markt 54 in Roosendaal
URL:https://taalwestbrabant.nl/activiteit/gratis-basiscursus-kunnen-wij-op-jou-rekenen-roosendaal/
LOCATION:Digi-Taalhuis Roosendaal\, Markt 54A\, Roosendaal
END:VEVENT
END:VCALENDAR