BEGIN:VCALENDAR
VERSION:2.0
PRODID:-//Taal West-Brabant - ECPv6.10.0//NONSGML v1.0//EN
CALSCALE:GREGORIAN
METHOD:PUBLISH
X-ORIGINAL-URL:https://taalwestbrabant.nl
X-WR-CALDESC:Evenementen voor Taal West-Brabant
REFRESH-INTERVAL;VALUE=DURATION:PT1H
X-Robots-Tag:noindex
X-PUBLISHED-TTL:PT1H
BEGIN:VTIMEZONE
TZID:UTC
BEGIN:STANDARD
TZOFFSETFROM:+0000
TZOFFSETTO:+0000
TZNAME:UTC
DTSTART:20220101T000000
END:STANDARD
END:VTIMEZONE
BEGIN:VEVENT
DTSTART;TZID=UTC:20221102T100000
DTEND;TZID=UTC:20221102T113000
DTSTAMP:20260424T085121
CREATED:20221102T152345Z
LAST-MODIFIED:20221102T152345Z
UID:1455-1667383200-1667388600@taalwestbrabant.nl
SUMMARY:Inloopspreekuur - Digi-Taalpunt Breda | Hoge Vucht
DESCRIPTION:Wil je oefenen met spreken\, lezen of schrijven?\nOf met de computer en het internet? \nBij het Digi-Taalhuis krijg je persoonlijk advies en hulp. \nKom naar het inloopspreekuur.\nDaar vertellen we je meer. \nIedereen is welkom.
URL:https://taalwestbrabant.nl/activiteit/inloopspreekuur-digi-taalpunt-breda-hoge-vucht/
END:VEVENT
BEGIN:VEVENT
DTSTART;TZID=UTC:20221102T100000
DTEND;TZID=UTC:20221102T120000
DTSTAMP:20260424T085121
CREATED:20221102T151631Z
LAST-MODIFIED:20221102T151631Z
UID:1439-1667383200-1667390400@taalwestbrabant.nl
SUMMARY:Inloopspreekuur -  Digi-Taalhuis Altena
DESCRIPTION:Wil je oefenen met spreken\, lezen of schrijven?\nOf met de computer en het internet? \nBij het Digi-Taalhuis krijg je persoonlijk advies en hulp. \nKom naar het inloopspreekuur.\nDaar vertellen we je meer. \nIedereen is welkom.
URL:https://taalwestbrabant.nl/activiteit/inloopspreekuur-digi-taalhuis-altena/
LOCATION:Digi-Taalhuis Altena\, Raadhuisplein 1\, Woudrichem\, Nederland
END:VEVENT
BEGIN:VEVENT
DTSTART;TZID=UTC:20221102T100000
DTEND;TZID=UTC:20221102T120000
DTSTAMP:20260424T085121
CREATED:20221102T151942Z
LAST-MODIFIED:20221102T151942Z
UID:1447-1667383200-1667390400@taalwestbrabant.nl
SUMMARY:Inloopspreekuur - Digi-Taalhuis Bergen op Zoom
DESCRIPTION:Wil je oefenen met spreken\, lezen of schrijven?\nOf met de computer en het internet? \nBij het Digi-Taalhuis krijg je persoonlijk advies en hulp. \nKom naar het inloopspreekuur.\nDaar vertellen we je meer. \nIedereen is welkom.
URL:https://taalwestbrabant.nl/activiteit/inloopspreekuur-digi-taalhuis-bergen-op-zoom/
LOCATION:Digi-Taalhuis Bergen op Zoom\, Kortemeestraat 17\, Bergen op Zoom
END:VEVENT
BEGIN:VEVENT
DTSTART;TZID=UTC:20221102T100000
DTEND;TZID=UTC:20221102T120000
DTSTAMP:20260424T085121
CREATED:20221102T162346Z
LAST-MODIFIED:20221102T162827Z
UID:1492-1667383200-1667390400@taalwestbrabant.nl
SUMMARY:Inloopspreekuur - TaalSteenbergen
DESCRIPTION:Wil je oefenen met spreken\, lezen of schrijven?\nOf met de computer en het internet? \nBij TaalSteenbergen krijg je persoonlijk advies en hulp. \nKom naar het inloopspreekuur.\nDaar vertellen we je meer. \nIedereen is welkom.
URL:https://taalwestbrabant.nl/activiteit/inloopspreekuur-taalsteenbergen/
LOCATION:TaalSteenbergen\, Kromme Elleboog 9\, Steenbergen
END:VEVENT
END:VCALENDAR