BEGIN:VCALENDAR
VERSION:2.0
PRODID:-//Taal West-Brabant - ECPv6.10.0//NONSGML v1.0//EN
CALSCALE:GREGORIAN
METHOD:PUBLISH
X-WR-CALNAME:Taal West-Brabant
X-ORIGINAL-URL:https://taalwestbrabant.nl
X-WR-CALDESC:Evenementen voor Taal West-Brabant
REFRESH-INTERVAL;VALUE=DURATION:PT1H
X-Robots-Tag:noindex
X-PUBLISHED-TTL:PT1H
BEGIN:VTIMEZONE
TZID:UTC
BEGIN:STANDARD
TZOFFSETFROM:+0000
TZOFFSETTO:+0000
TZNAME:UTC
DTSTART:20220101T000000
END:STANDARD
END:VTIMEZONE
BEGIN:VEVENT
DTSTART;TZID=UTC:20221107T130000
DTEND;TZID=UTC:20221107T150000
DTSTAMP:20260424T085007
CREATED:20221102T161930Z
LAST-MODIFIED:20221102T161930Z
UID:1482-1667826000-1667833200@taalwestbrabant.nl
SUMMARY:Inloopspreekuur - Digi-Taalhuis Oosterhout
DESCRIPTION:Wil je oefenen met spreken\, lezen of schrijven?\nOf met de computer en het internet? \nBij het Digi-Taalhuis krijg je persoonlijk advies en hulp. \nKom naar het inloopspreekuur.\nDaar vertellen we je meer. \nIedereen is welkom.
URL:https://taalwestbrabant.nl/activiteit/inloopspreekuur-digi-taalhuis-oosterhout/
LOCATION:Digi-Taalhuis Oosterhout\, Torenstraat 8\, Oosterhout
END:VEVENT
BEGIN:VEVENT
DTSTART;TZID=UTC:20221107T140000
DTEND;TZID=UTC:20221107T160000
DTSTAMP:20260424T085007
CREATED:20221102T163214Z
LAST-MODIFIED:20221102T163214Z
UID:1503-1667829600-1667836800@taalwestbrabant.nl
SUMMARY:Inloopspreekuur - Digi-Taalhuis Zundert
DESCRIPTION:Wil je oefenen met spreken\, lezen of schrijven?\nOf met de computer en het internet? \nBij het Digi-Taalhuis krijg je persoonlijk advies en hulp. \nKom naar het inloopspreekuur.\nDaar vertellen we je meer. \nIedereen is welkom.
URL:https://taalwestbrabant.nl/activiteit/inloopspreekuur-digi-taalhuis-zundert/
LOCATION:Digi-Taalhuis Zundert\, Koutershof 6\, Rijsbergen
END:VEVENT
BEGIN:VEVENT
DTSTART;TZID=UTC:20221107T141500
DTEND;TZID=UTC:20221107T161500
DTSTAMP:20260424T085007
CREATED:20221102T154140Z
LAST-MODIFIED:20221102T154311Z
UID:1471-1667830500-1667837700@taalwestbrabant.nl
SUMMARY:Inloopspreekuur - Digi-Taalhuis Geertruidenberg
DESCRIPTION:Wil je oefenen met spreken\, lezen of schrijven?\nOf met de computer en het internet? \nBij het Digi-Taalhuis krijg je persoonlijk advies en hulp. \nKom naar het inloopspreekuur.\nDaar vertellen we je meer. \nIedereen is welkom.
URL:https://taalwestbrabant.nl/activiteit/inloopspreekuur-geertruidenberg/
LOCATION:Digi-Taalhuis Geertruidenberg\, Keizersdijk 30\, Raamsdonksveer
END:VEVENT
END:VCALENDAR