BEGIN:VCALENDAR
VERSION:2.0
PRODID:-//Taal West-Brabant - ECPv6.10.0//NONSGML v1.0//EN
CALSCALE:GREGORIAN
METHOD:PUBLISH
X-ORIGINAL-URL:https://taalwestbrabant.nl
X-WR-CALDESC:Evenementen voor Taal West-Brabant
REFRESH-INTERVAL;VALUE=DURATION:PT1H
X-Robots-Tag:noindex
X-PUBLISHED-TTL:PT1H
BEGIN:VTIMEZONE
TZID:UTC
BEGIN:STANDARD
TZOFFSETFROM:+0000
TZOFFSETTO:+0000
TZNAME:UTC
DTSTART:20220101T000000
END:STANDARD
END:VTIMEZONE
BEGIN:VEVENT
DTSTART;TZID=UTC:20221110T100000
DTEND;TZID=UTC:20221110T113000
DTSTAMP:20260424T085120
CREATED:20221102T153054Z
LAST-MODIFIED:20221102T153054Z
UID:1465-1668074400-1668079800@taalwestbrabant.nl
SUMMARY:Inloopspreekuur - Digi-Taalpunt Breda | Heuvel
DESCRIPTION:Wil je oefenen met spreken\, lezen of schrijven?\nOf met de computer en het internet? \nBij het Digi-Taalhuis krijg je persoonlijk advies en hulp. \nKom naar het inloopspreekuur.\nDaar vertellen we je meer. \nIedereen is welkom.
URL:https://taalwestbrabant.nl/activiteit/inloopspreekuur-digi-taalpunt-breda-heuvel-2/
LOCATION:Digi-Taalpunt Breda | Heuvel\, Monseigneur Nolensplein 1\, Breda
END:VEVENT
BEGIN:VEVENT
DTSTART;TZID=UTC:20221110T100000
DTEND;TZID=UTC:20221110T113000
DTSTAMP:20260424T085120
CREATED:20221102T162737Z
LAST-MODIFIED:20221102T162737Z
UID:1498-1668074400-1668079800@taalwestbrabant.nl
SUMMARY:Inloopspreekuur - To-Taalhuis Hoogerheide
DESCRIPTION:Wil je oefenen met spreken\, lezen of schrijven?\nOf met de computer en het internet? \nBij het To-Taalhuis krijg je persoonlijk advies en hulp. \nKom naar het inloopspreekuur.\nDaar vertellen we je meer. \nIedereen is welkom.
URL:https://taalwestbrabant.nl/activiteit/inloopspreekuur-to-taalhuis-hoogerheide-2/
LOCATION:To-Taalhuis Hoogerheide\, Huijbergseweg 3\, Hoogerheide
END:VEVENT
BEGIN:VEVENT
DTSTART;TZID=UTC:20221110T133000
DTEND;TZID=UTC:20221110T153000
DTSTAMP:20260424T085120
CREATED:20221102T161810Z
LAST-MODIFIED:20221102T161810Z
UID:1480-1668087000-1668094200@taalwestbrabant.nl
SUMMARY:Inloopspreekuur - Digi-Taalhuis Moerdijk
DESCRIPTION:Wil je oefenen met spreken\, lezen of schrijven?\nOf met de computer en het internet? \nBij het Digi-Taalhuis krijg je persoonlijk advies en hulp. \nKom naar het inloopspreekuur.\nDaar vertellen we je meer. \nIedereen is welkom.
URL:https://taalwestbrabant.nl/activiteit/inloopspreekuur-digi-taalhuis-moerdijk-2/
LOCATION:Digi-Taalhuis Moerdijk\, Kasteelweg 3\, Zevenbergen\, Noord-Brabant
END:VEVENT
BEGIN:VEVENT
DTSTART;TZID=UTC:20221110T140000
DTEND;TZID=UTC:20221110T163000
DTSTAMP:20260424T085120
CREATED:20221102T162110Z
LAST-MODIFIED:20221102T162110Z
UID:1486-1668088800-1668097800@taalwestbrabant.nl
SUMMARY:Inloopspreekuur - Digi-Taalhuis Roosendaal
DESCRIPTION:Wil je oefenen met spreken\, lezen of schrijven?\nOf met de computer en het internet? \nBij het Digi-Taalhuis krijg je persoonlijk advies en hulp. \nKom naar het inloopspreekuur.\nDaar vertellen we je meer. \nIedereen is welkom.
URL:https://taalwestbrabant.nl/activiteit/inloopspreekuur-digi-taalhuis-roosendaal-2/
LOCATION:Digi-Taalhuis Roosendaal\, Markt 54A\, Roosendaal
END:VEVENT
END:VCALENDAR