BEGIN:VCALENDAR
VERSION:2.0
PRODID:-//Taal West-Brabant - ECPv6.10.0//NONSGML v1.0//EN
CALSCALE:GREGORIAN
METHOD:PUBLISH
X-ORIGINAL-URL:https://taalwestbrabant.nl
X-WR-CALDESC:Evenementen voor Taal West-Brabant
REFRESH-INTERVAL;VALUE=DURATION:PT1H
X-Robots-Tag:noindex
X-PUBLISHED-TTL:PT1H
BEGIN:VTIMEZONE
TZID:Europe/Amsterdam
BEGIN:DAYLIGHT
TZOFFSETFROM:+0100
TZOFFSETTO:+0200
TZNAME:CEST
DTSTART:20230326T010000
END:DAYLIGHT
BEGIN:STANDARD
TZOFFSETFROM:+0200
TZOFFSETTO:+0100
TZNAME:CET
DTSTART:20231029T010000
END:STANDARD
END:VTIMEZONE
BEGIN:VEVENT
DTSTART;TZID=Europe/Amsterdam:20230111T100000
DTEND;TZID=Europe/Amsterdam:20230111T113000
DTSTAMP:20260424T085119
CREATED:20230104T141627Z
LAST-MODIFIED:20230214T110948Z
UID:1556-1673431200-1673436600@taalwestbrabant.nl
SUMMARY:Inloopspreekuur - Digi-Taalpunt Breda | Hoge Vucht
DESCRIPTION:Wil je oefenen met spreken\, lezen of schrijven?\nOf met de computer en het internet? \nBij het Digi-Taalhuis krijg je persoonlijk advies en hulp. \nKom naar het inloopspreekuur.\nDaar vertellen we je meer. \nIedereen is welkom.
URL:https://taalwestbrabant.nl/activiteit/inloopspreekuur-digi-taalhuis-breda-2/
LOCATION:Digi-Taalpunt Breda | Hoge Vucht\, Evert Spoorwaterstraat 41\, Breda
END:VEVENT
BEGIN:VEVENT
DTSTART;TZID=Europe/Amsterdam:20230111T100000
DTEND;TZID=Europe/Amsterdam:20230111T120000
DTSTAMP:20260424T085119
CREATED:20230104T141207Z
LAST-MODIFIED:20230104T141207Z
UID:1544-1673431200-1673438400@taalwestbrabant.nl
SUMMARY:Inloopspreekuur - Digi-Taalhuis Altena
DESCRIPTION:Wil je oefenen met spreken\, lezen of schrijven?\nOf met de computer en het internet? \nBij het Digi-Taalhuis\nkrijg je persoonlijk advies en hulp. \nKom naar het inloopspreekuur.\nDaar vertellen we je meer. \nIedereen is welkom.
URL:https://taalwestbrabant.nl/activiteit/inloopspreekuur-digi-taalhuis-altena-5/
LOCATION:Digi-Taalhuis Altena\, Raadhuisplein 1\, Woudrichem\, Nederland
END:VEVENT
BEGIN:VEVENT
DTSTART;TZID=Europe/Amsterdam:20230111T100000
DTEND;TZID=Europe/Amsterdam:20230111T120000
DTSTAMP:20260424T085119
CREATED:20230104T141512Z
LAST-MODIFIED:20230104T141512Z
UID:1553-1673431200-1673438400@taalwestbrabant.nl
SUMMARY:Inloopspreekuur - Digi-Taalhuis Bergen op Zoom
DESCRIPTION:Wil je oefenen met spreken\, lezen of schrijven?\nOf met de computer en het internet? \nBij het Digi-Taalhuis krijg je persoonlijk advies en hulp. \nKom naar het inloopspreekuur.\nDaar vertellen we je meer. \nIedereen is welkom.
URL:https://taalwestbrabant.nl/activiteit/inloopspreekuur-digi-taalhuis-bergen-op-zoom-5/
LOCATION:Digi-Taalhuis Bergen op Zoom\, Kortemeestraat 17\, Bergen op Zoom
END:VEVENT
BEGIN:VEVENT
DTSTART;TZID=Europe/Amsterdam:20230322T100000
DTEND;TZID=Europe/Amsterdam:20230322T160000
DTSTAMP:20260424T085119
CREATED:20230302T083740Z
LAST-MODIFIED:20230302T084201Z
UID:1644-1679479200-1679500800@taalwestbrabant.nl
SUMMARY:Conferentie voor NT1-docenten - Woerden
DESCRIPTION:22 maart wordt de 6e conferentie voor NT1-docenten georganiseerd in Woerden \nVoor deze conferentie ligt het accent op het bereiken van de NT1-deelnemers. Om dat goed te doen is samenwerking tussen verschillende organisaties essentieel. Bereikt men de deelnemer? Dan is het van belang dat deze een passend traject kan volgen én dat ook succesvol kan afronden. Op de conferentie worden voorbeelden gepresenteerd van die noodzakelijke samenwerking en van vruchtbare lespraktijken. \nMeer informatie over het programma? Of wil je je aanmelden? Dit kan via de website.
URL:https://taalwestbrabant.nl/activiteit/conferentie-voor-nt1-docenten-woerden/
END:VEVENT
BEGIN:VEVENT
DTSTART;TZID=Europe/Amsterdam:20230111T133000
DTEND;TZID=Europe/Amsterdam:20230111T143000
DTSTAMP:20260424T085119
CREATED:20230104T142854Z
LAST-MODIFIED:20230703T131859Z
UID:1590-1673443800-1673447400@taalwestbrabant.nl
SUMMARY:Inloopspreekuur - TaalSteenbergen
DESCRIPTION:Wil je oefenen met spreken\, lezen of schrijven?\nOf met de computer en het internet? \nBij TaalSteenbergen krijg je persoonlijk advies en hulp. \nKom naar het inloopspreekuur.\nDaar vertellen we je meer. \nIedereen is welkom.
URL:https://taalwestbrabant.nl/activiteit/inloopspreekuur-taalsteenbergen-3/
LOCATION:TaalSteenbergen\, Kromme Elleboog 9\, Steenbergen
END:VEVENT
END:VCALENDAR