BEGIN:VCALENDAR
VERSION:2.0
PRODID:-//Taal West-Brabant - ECPv6.10.0//NONSGML v1.0//EN
CALSCALE:GREGORIAN
METHOD:PUBLISH
X-ORIGINAL-URL:https://taalwestbrabant.nl
X-WR-CALDESC:Evenementen voor Taal West-Brabant
REFRESH-INTERVAL;VALUE=DURATION:PT1H
X-Robots-Tag:noindex
X-PUBLISHED-TTL:PT1H
BEGIN:VTIMEZONE
TZID:Europe/Amsterdam
BEGIN:DAYLIGHT
TZOFFSETFROM:+0100
TZOFFSETTO:+0200
TZNAME:CEST
DTSTART:20230326T010000
END:DAYLIGHT
BEGIN:STANDARD
TZOFFSETFROM:+0200
TZOFFSETTO:+0100
TZNAME:CET
DTSTART:20231029T010000
END:STANDARD
END:VTIMEZONE
BEGIN:VEVENT
DTSTART;TZID=Europe/Amsterdam:20230908T100000
DTEND;TZID=Europe/Amsterdam:20230908T113000
DTSTAMP:20260424T184349
CREATED:20230802T100835Z
LAST-MODIFIED:20230802T100835Z
UID:1789-1694167200-1694172600@taalwestbrabant.nl
SUMMARY:Inloopspreekuur en Taalcafé Digi-Taalhuis Rucphen
DESCRIPTION:Wil je oefenen met spreken\, lezen of schrijven?\nOf met de computer en het internet? \nBij het Digi-Taalhuis krijg je persoonlijk advies en hulp. \nKom naar het inloopspreekuur.\nDaar vertellen we je meer. \nIedereen is welkom.
URL:https://taalwestbrabant.nl/activiteit/inloopspreekuur-en-taalcafe-digi-taalhuis-rucphen/
LOCATION:Digi-Taalhuis Rucphen\, Binnentuin 3\, Rucphen
END:VEVENT
BEGIN:VEVENT
DTSTART;TZID=Europe/Amsterdam:20230113T100000
DTEND;TZID=Europe/Amsterdam:20230113T120000
DTSTAMP:20260424T184349
CREATED:20230104T141312Z
LAST-MODIFIED:20230104T141312Z
UID:1547-1673604000-1673611200@taalwestbrabant.nl
SUMMARY:Inloopspreekuur - Digi-Taalhuis Altena
DESCRIPTION:Wil je oefenen met spreken\, lezen of schrijven?\nOf met de computer en het internet? \nBij het Digi-Taalhuis\nkrijg je persoonlijk advies en hulp. \nKom naar het inloopspreekuur.\nDaar vertellen we je meer. \nIedereen is welkom.
URL:https://taalwestbrabant.nl/activiteit/inloopspreekuur-digi-taalhuis-altena-6/
LOCATION:Digi-Taalhuis Altena\, Raadhuisplein 1\, Woudrichem\, Nederland
END:VEVENT
BEGIN:VEVENT
DTSTART;TZID=Europe/Amsterdam:20230906T100000
DTEND;TZID=Europe/Amsterdam:20230906T170000
DTSTAMP:20260424T184349
CREATED:20230802T094543Z
LAST-MODIFIED:20230802T094914Z
UID:1774-1693994400-1694019600@taalwestbrabant.nl
SUMMARY:Fototentoonstelling Digi-Taalhuis Etten-Leur
DESCRIPTION:6 tot en met 30 september is er een fototentoonstelling op de eerste verdieping van het cultuurhuis de Nobelaer met zes portretten van personen die een taaltraject volgen bij het Digi-Taalhuis. Loop even binnen en kom een kijkje nemen.
URL:https://taalwestbrabant.nl/activiteit/fototentoonstelling-digi-taalhuis-etten-leur/
LOCATION:Digi-Taalhuis Etten-Leur\, Parklaan 2\, Etten-Leur
END:VEVENT
BEGIN:VEVENT
DTSTART;TZID=Europe/Amsterdam:20230113T140000
DTEND;TZID=Europe/Amsterdam:20230113T163000
DTSTAMP:20260424T184349
CREATED:20230104T142407Z
LAST-MODIFIED:20230104T142407Z
UID:1575-1673618400-1673627400@taalwestbrabant.nl
SUMMARY:Inloopspreekuur - Digi-Taalhuis Halderberge
DESCRIPTION:Wil je oefenen met spreken\, lezen of schrijven?\nOf met de computer en het internet? \nBij het Digi-Taalhuis krijg je persoonlijk advies en hulp. \nKom naar het inloopspreekuur.\nDaar vertellen we je meer. \nIedereen is welkom.
URL:https://taalwestbrabant.nl/activiteit/inloopspreekuur-digi-taalhuis-halderberge-3/
LOCATION:Digi-Taalhuis Halderberge\, Sint Annaplein 3\, Oudenbosch
END:VEVENT
END:VCALENDAR