BEGIN:VCALENDAR
VERSION:2.0
PRODID:-//Taal West-Brabant - ECPv6.10.0//NONSGML v1.0//EN
CALSCALE:GREGORIAN
METHOD:PUBLISH
X-ORIGINAL-URL:https://taalwestbrabant.nl
X-WR-CALDESC:Evenementen voor Taal West-Brabant
REFRESH-INTERVAL;VALUE=DURATION:PT1H
X-Robots-Tag:noindex
X-PUBLISHED-TTL:PT1H
BEGIN:VTIMEZONE
TZID:Europe/Amsterdam
BEGIN:DAYLIGHT
TZOFFSETFROM:+0100
TZOFFSETTO:+0200
TZNAME:CEST
DTSTART:20230326T010000
END:DAYLIGHT
BEGIN:STANDARD
TZOFFSETFROM:+0200
TZOFFSETTO:+0100
TZNAME:CET
DTSTART:20231029T010000
END:STANDARD
END:VTIMEZONE
BEGIN:VEVENT
DTSTART;TZID=Europe/Amsterdam:20230112T100000
DTEND;TZID=Europe/Amsterdam:20230112T113000
DTSTAMP:20260424T184349
CREATED:20230104T141812Z
LAST-MODIFIED:20230214T110157Z
UID:1560-1673517600-1673523000@taalwestbrabant.nl
SUMMARY:Inloopspreekuur - Digi-Taalpunt Breda | Heuvel
DESCRIPTION:Wil je oefenen met spreken\, lezen of schrijven?\nOf met de computer en het internet? \nBij het Digi-Taalhuis krijg je persoonlijk advies en hulp. \nKom naar het inloopspreekuur.\nDaar vertellen we je meer. \nIedereen is welkom.
URL:https://taalwestbrabant.nl/activiteit/inloopspreekuur-digi-taalpunt-breda-heuvel-3/
LOCATION:Digi-Taalpunt Breda | Heuvel\, Monseigneur Nolensplein 1\, Breda
END:VEVENT
BEGIN:VEVENT
DTSTART;TZID=Europe/Amsterdam:20230112T100000
DTEND;TZID=Europe/Amsterdam:20230112T113000
DTSTAMP:20260424T184349
CREATED:20230104T143005Z
LAST-MODIFIED:20230104T143005Z
UID:1593-1673517600-1673523000@taalwestbrabant.nl
SUMMARY:Inloopspreekuur - To-Taalhuis Hoogerheide
DESCRIPTION:Wil je oefenen met spreken\, lezen of schrijven?\nOf met de computer en het internet? \nBij het To-Taalhuis krijg je persoonlijk advies en hulp. \nKom naar het inloopspreekuur.\nDaar vertellen we je meer. \nIedereen is welkom.
URL:https://taalwestbrabant.nl/activiteit/inloopspreekuur-to-taalhuis-hoogerheide-3/
LOCATION:To-Taalhuis Hoogerheide\, Huijbergseweg 3\, Hoogerheide
END:VEVENT
BEGIN:VEVENT
DTSTART;TZID=Europe/Amsterdam:20230906T100000
DTEND;TZID=Europe/Amsterdam:20230906T170000
DTSTAMP:20260424T184349
CREATED:20230802T094543Z
LAST-MODIFIED:20230802T094914Z
UID:1774-1693994400-1694019600@taalwestbrabant.nl
SUMMARY:Fototentoonstelling Digi-Taalhuis Etten-Leur
DESCRIPTION:6 tot en met 30 september is er een fototentoonstelling op de eerste verdieping van het cultuurhuis de Nobelaer met zes portretten van personen die een taaltraject volgen bij het Digi-Taalhuis. Loop even binnen en kom een kijkje nemen.
URL:https://taalwestbrabant.nl/activiteit/fototentoonstelling-digi-taalhuis-etten-leur/
LOCATION:Digi-Taalhuis Etten-Leur\, Parklaan 2\, Etten-Leur
END:VEVENT
BEGIN:VEVENT
DTSTART;TZID=Europe/Amsterdam:20230112T133000
DTEND;TZID=Europe/Amsterdam:20230112T153000
DTSTAMP:20260424T184349
CREATED:20230104T142458Z
LAST-MODIFIED:20230104T142458Z
UID:1578-1673530200-1673537400@taalwestbrabant.nl
SUMMARY:Inloopspreekuur - Digi-Taalhuis Moerdijk
DESCRIPTION:Wil je oefenen met spreken\, lezen of schrijven?\nOf met de computer en het internet? \nBij het Digi-Taalhuis krijg je persoonlijk advies en hulp. \nKom naar het inloopspreekuur.\nDaar vertellen we je meer. \nIedereen is welkom.
URL:https://taalwestbrabant.nl/activiteit/inloopspreekuur-digi-taalhuis-moerdijk-3/
LOCATION:Digi-Taalhuis Moerdijk\, Kasteelweg 3\, Zevenbergen\, Noord-Brabant
END:VEVENT
BEGIN:VEVENT
DTSTART;TZID=Europe/Amsterdam:20230914T140000
DTEND;TZID=Europe/Amsterdam:20230914T160000
DTSTAMP:20260424T184349
CREATED:20230830T084105Z
LAST-MODIFIED:20230830T084119Z
UID:1832-1694700000-1694707200@taalwestbrabant.nl
SUMMARY:Lettersoep Albert Heijn Steenbergen
DESCRIPTION:14 september Taal Steenbergen voor je klaar om al je vragen te beantwoorden. Ken je iemand uit je omgeving die moeite heeft met de Nederlandse taal en/of hulp kan gebruiken bij diens digitale vaardigheden? Kom dan langs om te kijken hoe Taal Steenbergen kan helpen. Onder genot van een lettersoepje informeren wij je over ons aanbod in coaching trajecten en cursussen.
URL:https://taalwestbrabant.nl/activiteit/lettersoep-albert-heijn-steenbergen/
LOCATION:Albert Heijn Steenbergen\, Lindenburghlaan 1\, Steenbergen
END:VEVENT
BEGIN:VEVENT
DTSTART;TZID=Europe/Amsterdam:20230112T140000
DTEND;TZID=Europe/Amsterdam:20230112T163000
DTSTAMP:20260424T184349
CREATED:20230104T142644Z
LAST-MODIFIED:20230104T142644Z
UID:1584-1673532000-1673541000@taalwestbrabant.nl
SUMMARY:Inloopspreekuur - Digi-Taalhuis Roosendaal
DESCRIPTION:Wil je oefenen met spreken\, lezen of schrijven?\nOf met de computer en het internet? \nBij het Digi-Taalhuis krijg je persoonlijk advies en hulp. \nKom naar het inloopspreekuur.\nDaar vertellen we je meer. \nIedereen is welkom.
URL:https://taalwestbrabant.nl/activiteit/inloopspreekuur-digi-taalhuis-roosendaal-3/
LOCATION:Digi-Taalhuis Roosendaal\, Markt 54A\, Roosendaal
END:VEVENT
BEGIN:VEVENT
DTSTART;TZID=Europe/Amsterdam:20230914T160000
DTEND;TZID=Europe/Amsterdam:20230914T170000
DTSTAMP:20260424T184349
CREATED:20230629T132122Z
LAST-MODIFIED:20230629T132122Z
UID:1728-1694707200-1694710800@taalwestbrabant.nl
SUMMARY:Kennissessie Waarom taal werkt!
DESCRIPTION:Doelgroep: Brancheorganisaties\, O&O fondsen\, Leerwerkloket\, RMT\, UWV en WSP. \nBen je werkzaam bij een brancheorganisatie\, een O&O fonds\, of als bemiddelaar bij een netwerk- of werkgeversorganisatie en wil je werkgevers aanmoedigen om het beste uit hun werknemers te halen? \nOntdek tijdens onze online kennissessie wat laaggeletterdheid onder werknemers een werkgever kost. En wat het een werkgever oplevert als hij een werknemer ondersteunt om beter te leren lezen\, rekenen of digitaal handiger te worden.  Daarnaast delen een werkgever en werknemer hun persoonlijke ervaringen; wat is er voor hen veranderd\, nu de werknemer betere basisvaardigheden heeft? \nMet deze feiten en ervaringen kun je werkgevers inspireren om óók met basisvaardigheden op de werkvloer aan de slag te gaan. Zodat elke werknemer zijn werk optimaal kan blijven doen. \nMeer informatie vind je hier. \n 
URL:https://taalwestbrabant.nl/activiteit/kennissessie-waarom-taal-werkt/
END:VEVENT
BEGIN:VEVENT
DTSTART;TZID=Europe/Amsterdam:20230914T193000
DTEND;TZID=Europe/Amsterdam:20230914T203000
DTSTAMP:20260424T184349
CREATED:20230629T132255Z
LAST-MODIFIED:20230629T132255Z
UID:1730-1694719800-1694723400@taalwestbrabant.nl
SUMMARY:Kennissessie Vrijwilligers maken het verschil!
DESCRIPTION:Doelgroep: (Taal)vrijwilligers. \nBen jij (taal)vrijwilliger? Dan is deze sessie voor jou! \nAls vrijwilliger doe je ontzettend belangrijk en mooi werk. Soms ben je op zoek naar oefenmateriaal om te gebruiken met je deelnemer. Of wil je je eigen vaardigheden als coach verbeteren. \nTijdens deze gezamenlijke online kennissessie geven Stichting Het Begint met Taal en Stichting lezen schrijven jou de mogelijkheden van het Startpunt Vrijwilligers. Ook kun je aan een panel van experts jouw vragen stellen over oefenmaterialen en het gebruik daarvan. Of over hoe je jezelf als (taal)vrijwilliger kunt ontwikkelen. Het panel bestaat onder ander uit een docent/trainer NT1 en een docent/trainer NT2. \nMeer informatie vind je hier.
URL:https://taalwestbrabant.nl/activiteit/kennissessie-vrijwilligers-maken-het-verschil/
END:VEVENT
END:VCALENDAR