BEGIN:VCALENDAR
VERSION:2.0
PRODID:-//Taal West-Brabant - ECPv6.10.0//NONSGML v1.0//EN
CALSCALE:GREGORIAN
METHOD:PUBLISH
X-WR-CALNAME:Taal West-Brabant
X-ORIGINAL-URL:https://taalwestbrabant.nl
X-WR-CALDESC:Evenementen voor Taal West-Brabant
REFRESH-INTERVAL;VALUE=DURATION:PT1H
X-Robots-Tag:noindex
X-PUBLISHED-TTL:PT1H
BEGIN:VTIMEZONE
TZID:Europe/Amsterdam
BEGIN:DAYLIGHT
TZOFFSETFROM:+0100
TZOFFSETTO:+0200
TZNAME:CEST
DTSTART:20230326T010000
END:DAYLIGHT
BEGIN:STANDARD
TZOFFSETFROM:+0200
TZOFFSETTO:+0100
TZNAME:CET
DTSTART:20231029T010000
END:STANDARD
END:VTIMEZONE
BEGIN:VEVENT
DTSTART;TZID=Europe/Amsterdam:20230906T100000
DTEND;TZID=Europe/Amsterdam:20230906T170000
DTSTAMP:20260424T200245
CREATED:20230802T094543Z
LAST-MODIFIED:20230802T094914Z
UID:1774-1693994400-1694019600@taalwestbrabant.nl
SUMMARY:Fototentoonstelling Digi-Taalhuis Etten-Leur
DESCRIPTION:6 tot en met 30 september is er een fototentoonstelling op de eerste verdieping van het cultuurhuis de Nobelaer met zes portretten van personen die een taaltraject volgen bij het Digi-Taalhuis. Loop even binnen en kom een kijkje nemen.
URL:https://taalwestbrabant.nl/activiteit/fototentoonstelling-digi-taalhuis-etten-leur/
LOCATION:Digi-Taalhuis Etten-Leur\, Parklaan 2\, Etten-Leur
END:VEVENT
BEGIN:VEVENT
DTSTART;TZID=Europe/Amsterdam:20230109T130000
DTEND;TZID=Europe/Amsterdam:20230109T150000
DTSTAMP:20260424T200245
CREATED:20230104T142542Z
LAST-MODIFIED:20230104T142542Z
UID:1581-1673269200-1673276400@taalwestbrabant.nl
SUMMARY:Inloopspreekuur - Digi-Taalhuis Oosterhout
DESCRIPTION:Wil je oefenen met spreken\, lezen of schrijven?\nOf met de computer en het internet? \nBij het Digi-Taalhuis krijg je persoonlijk advies en hulp. \nKom naar het inloopspreekuur.\nDaar vertellen we je meer. \nIedereen is welkom.
URL:https://taalwestbrabant.nl/activiteit/inloopspreekuur-digi-taalhuis-oosterhout-2/
LOCATION:Digi-Taalhuis Oosterhout\, Torenstraat 8\, Oosterhout
END:VEVENT
BEGIN:VEVENT
DTSTART;TZID=Europe/Amsterdam:20230109T140000
DTEND;TZID=Europe/Amsterdam:20230109T160000
DTSTAMP:20260424T200245
CREATED:20230104T143108Z
LAST-MODIFIED:20230104T143108Z
UID:1596-1673272800-1673280000@taalwestbrabant.nl
SUMMARY:Inloopspreekuur - Digi-Taalhuis Zundert
DESCRIPTION:Wil je oefenen met spreken\, lezen of schrijven?\nOf met de computer en het internet? \nBij het Digi-Taalhuis krijg je persoonlijk advies en hulp. \nKom naar het inloopspreekuur.\nDaar vertellen we je meer. \nIedereen is welkom.
URL:https://taalwestbrabant.nl/activiteit/inloopspreekuur-digi-taalhuis-zundert-2/
LOCATION:Digi-Taalhuis Zundert\, Koutershof 6\, Rijsbergen
END:VEVENT
BEGIN:VEVENT
DTSTART;TZID=Europe/Amsterdam:20230109T141500
DTEND;TZID=Europe/Amsterdam:20230109T161500
DTSTAMP:20260424T200245
CREATED:20230104T142312Z
LAST-MODIFIED:20230104T142312Z
UID:1572-1673273700-1673280900@taalwestbrabant.nl
SUMMARY:Inloopspreekuur - Digi-Taalhuis Geertruidenberg
DESCRIPTION:Wil je oefenen met spreken\, lezen of schrijven?\nOf met de computer en het internet? \nBij het Digi-Taalhuis krijg je persoonlijk advies en hulp. \nKom naar het inloopspreekuur.\nDaar vertellen we je meer. \nIedereen is welkom.
URL:https://taalwestbrabant.nl/activiteit/inloopspreekuur-digi-taalhuis-geertruidenberg/
LOCATION:Digi-Taalhuis Geertruidenberg\, Keizersdijk 30\, Raamsdonksveer
END:VEVENT
END:VCALENDAR