BEGIN:VCALENDAR
VERSION:2.0
PRODID:-//Taal West-Brabant - ECPv6.10.0//NONSGML v1.0//EN
CALSCALE:GREGORIAN
METHOD:PUBLISH
X-WR-CALNAME:Taal West-Brabant
X-ORIGINAL-URL:https://taalwestbrabant.nl
X-WR-CALDESC:Evenementen voor Taal West-Brabant
REFRESH-INTERVAL;VALUE=DURATION:PT1H
X-Robots-Tag:noindex
X-PUBLISHED-TTL:PT1H
BEGIN:VTIMEZONE
TZID:Europe/Amsterdam
BEGIN:DAYLIGHT
TZOFFSETFROM:+0100
TZOFFSETTO:+0200
TZNAME:CEST
DTSTART:20240331T010000
END:DAYLIGHT
BEGIN:STANDARD
TZOFFSETFROM:+0200
TZOFFSETTO:+0100
TZNAME:CET
DTSTART:20241027T010000
END:STANDARD
END:VTIMEZONE
BEGIN:VEVENT
DTSTART;TZID=Europe/Amsterdam:20240914T100000
DTEND;TZID=Europe/Amsterdam:20240914T170000
DTSTAMP:20260425T143701
CREATED:20240823T090817Z
LAST-MODIFIED:20240823T090817Z
UID:1976-1726308000-1726333200@taalwestbrabant.nl
SUMMARY:Escape Caravan - Digi-Taalhuis Breda
DESCRIPTION:Wil je ervaren hoe het is moeite te hebben met lezen en schrijven? Kom naar de escape caravan.
URL:https://taalwestbrabant.nl/activiteit/escape-caravan-digi-taalhuis-breda/
LOCATION:Digi-Taalhuis Breda
END:VEVENT
END:VCALENDAR