BEGIN:VCALENDAR
VERSION:2.0
PRODID:-//Taal West-Brabant - ECPv6.10.0//NONSGML v1.0//EN
CALSCALE:GREGORIAN
METHOD:PUBLISH
X-WR-CALNAME:Taal West-Brabant
X-ORIGINAL-URL:https://taalwestbrabant.nl
X-WR-CALDESC:Evenementen voor Taal West-Brabant
REFRESH-INTERVAL;VALUE=DURATION:PT1H
X-Robots-Tag:noindex
X-PUBLISHED-TTL:PT1H
BEGIN:VTIMEZONE
TZID:Europe/Amsterdam
BEGIN:DAYLIGHT
TZOFFSETFROM:+0100
TZOFFSETTO:+0200
TZNAME:CEST
DTSTART:20230326T010000
END:DAYLIGHT
BEGIN:STANDARD
TZOFFSETFROM:+0200
TZOFFSETTO:+0100
TZNAME:CET
DTSTART:20231029T010000
END:STANDARD
BEGIN:DAYLIGHT
TZOFFSETFROM:+0100
TZOFFSETTO:+0200
TZNAME:CEST
DTSTART:20240331T010000
END:DAYLIGHT
BEGIN:STANDARD
TZOFFSETFROM:+0200
TZOFFSETTO:+0100
TZNAME:CET
DTSTART:20241027T010000
END:STANDARD
END:VTIMEZONE
BEGIN:VEVENT
DTSTART;TZID=Europe/Amsterdam:20230905T100000
DTEND;TZID=Europe/Amsterdam:20230905T113000
DTSTAMP:20260425T143702
CREATED:20230816T092221Z
LAST-MODIFIED:20230816T092221Z
UID:1818-1693908000-1693913400@taalwestbrabant.nl
SUMMARY:Inloopspreekuur Digi-Taalhuis Halderberge | IDO pop-up balie
DESCRIPTION:Wil je oefenen met spreken\, lezen of schrijven?\nOf met de computer en het internet? \nBij het Digi-Taalhuis krijg je persoonlijk advies en hulp. \nKom naar het inloopspreekuur.\nDaar vertellen we je meer. \nIedereen is welkom.
URL:https://taalwestbrabant.nl/activiteit/inloopspreekuur-digi-taalhuis-halderberge-ido-pop-up-balie/
LOCATION:Pluspunt\, Veerkensweg 17a\, Oud Gastel\, 4751 CR
END:VEVENT
BEGIN:VEVENT
DTSTART;TZID=Europe/Amsterdam:20230110T100000
DTEND;TZID=Europe/Amsterdam:20230110T120000
DTSTAMP:20260425T143702
CREATED:20230104T141900Z
LAST-MODIFIED:20230214T111144Z
UID:1563-1673344800-1673352000@taalwestbrabant.nl
SUMMARY:Inloopspreekuur - Digi-Taalhuis Breda
DESCRIPTION:Wil je oefenen met spreken\, lezen of schrijven?\nOf met de computer en het internet? \nBij het Digi-Taalhuis krijg je persoonlijk advies en hulp. \nKom naar het inloopspreekuur.\nDaar vertellen we je meer. \nIedereen is welkom.
URL:https://taalwestbrabant.nl/activiteit/inloopspreekuur-digi-taalhuis-breda-3/
LOCATION:Digi-Taalhuis Breda
END:VEVENT
BEGIN:VEVENT
DTSTART;TZID=Europe/Amsterdam:20230207T133000
DTEND;TZID=Europe/Amsterdam:20230207T150000
DTSTAMP:20260425T143702
CREATED:20230203T113930Z
LAST-MODIFIED:20230214T110351Z
UID:1632-1675776600-1675782000@taalwestbrabant.nl
SUMMARY:Inloopspreekuur – Digi-Taalpunt Breda | Haagse Beemden
DESCRIPTION:Wil je oefenen met spreken\, lezen of schrijven?\nOf met de computer en het internet? \nBij het Digi-Taalhuis krijg je persoonlijk advies en hulp. \nKom naar het inloopspreekuur.\nDaar vertellen we je meer. \nIedereen is welkom. \nDigi-Taalpunt Breda / Haagse Beemden\nOntmoetingscentrum De Sleutel\nVlierenbroek 30 in Breda
URL:https://taalwestbrabant.nl/activiteit/inloopspreekuur-digi-taalpunt-breda-haagse-beemden/
LOCATION:Breda vlierenbroek 30\, vlierenbroek 30\, Breda\, Nederland
END:VEVENT
BEGIN:VEVENT
DTSTART;TZID=Europe/Amsterdam:20230110T143000
DTEND;TZID=Europe/Amsterdam:20230110T163000
DTSTAMP:20260425T143702
CREATED:20230104T142002Z
LAST-MODIFIED:20230104T142002Z
UID:1566-1673361000-1673368200@taalwestbrabant.nl
SUMMARY:Inloopspreekuur - Digi-Taalhuis Drimmelen
DESCRIPTION:Wil je oefenen met spreken\, lezen of schrijven?\nOf met de computer en het internet? \nBij het Digi-Taalhuis krijg je persoonlijk advies en hulp. \nKom naar het inloopspreekuur.\nDaar vertellen we je meer. \nIedereen is welkom.
URL:https://taalwestbrabant.nl/activiteit/inloopspreekuur-digi-taalhuis-drimmelen-2/
LOCATION:Digi-Taalhuis Drimmelen\, Kerkstraat 10a\, Made
END:VEVENT
BEGIN:VEVENT
DTSTART;TZID=Europe/Amsterdam:20240917T150000
DTEND;TZID=Europe/Amsterdam:20240917T170000
DTSTAMP:20260425T143702
CREATED:20240823T084231Z
LAST-MODIFIED:20240823T084231Z
UID:1969-1726585200-1726592400@taalwestbrabant.nl
SUMMARY:Samenzijn | Voorleesexpres - Digi-Taalhuis Oosterhout
DESCRIPTION:Voor Christian Goijaarts is taal het mooiste speelgoed dat er is. Als schrijver en journalist schrijft hij teksten in opdracht van anderen\, maar via zijn website deelt hij zijn eigen werk. Vrolijke versjes\, waarin taalplezier\, optimisme en muzikaliteit vooropstaan. Dit genre gedichten noemen we light verse. Sinds april 2021 publiceert Christian elke zondagochtend een ‘vers’ versje op Oosterhout Nieuws en op sociale media. \nTaalplezier en optimisme\, daar willen we meer van! Daarom leidt Christian op 17 september van 15.00 – 17.00 een workshop. Hij leest voor uit eigen werk en we gaan zelf aan de slag. Ook kinderen zijn welkom. \n\n\nKom gezellig met taalvrijwilligers en deelnemers iets drinken! Vier keer per jaar organiseren wij\, Digi-Taalhuis en de VoorleesExpress in Oosterhout\, een bijeenkomst om gezellig samen te komen en ervaringen uit te wisselen. \nSchrijf je hier in.
URL:https://taalwestbrabant.nl/activiteit/samenzijn-voorleesexpres-digi-taalhuis-oosterhout/
END:VEVENT
BEGIN:VEVENT
DTSTART;TZID=Europe/Amsterdam:20230110T180000
DTEND;TZID=Europe/Amsterdam:20230110T193000
DTSTAMP:20260425T143702
CREATED:20230104T142218Z
LAST-MODIFIED:20230802T095539Z
UID:1569-1673373600-1673379000@taalwestbrabant.nl
SUMMARY:Inloopspreekuur - Digi-Taalhuis Etten-Leur
DESCRIPTION:Wil je oefenen met spreken\, lezen of schrijven?\nOf met de computer en het internet? \nBij het Digi-Taalhuis krijg je persoonlijk advies en hulp. \nKom naar het inloopspreekuur.\nDaar vertellen we je meer. \nIedereen is welkom.
URL:https://taalwestbrabant.nl/activiteit/inloopspreekuur-digi-taalhuis-etten-leur-2/
LOCATION:Digi-Taalhuis Etten-Leur\, Parklaan 2\, Etten-Leur
END:VEVENT
BEGIN:VEVENT
DTSTART;TZID=Europe/Amsterdam:20230110T190000
DTEND;TZID=Europe/Amsterdam:20230110T203000
DTSTAMP:20260425T143702
CREATED:20230104T141417Z
LAST-MODIFIED:20230104T141417Z
UID:1550-1673377200-1673382600@taalwestbrabant.nl
SUMMARY:Inloopspreekuur - Digi-Taalhuis Bergen op Zoom
DESCRIPTION:Wil je oefenen met spreken\, lezen of schrijven?\nOf met de computer en het internet? \nBij het Digi-Taalhuis krijg je persoonlijk advies en hulp. \nKom naar het inloopspreekuur.\nDaar vertellen we je meer. \nIedereen is welkom.
URL:https://taalwestbrabant.nl/activiteit/inloopspreekuur-digi-taalhuis-bergen-op-zoom-4/
LOCATION:Digi-Taalhuis Bergen op Zoom\, Kortemeestraat 17\, Bergen op Zoom
END:VEVENT
END:VCALENDAR